Workbook

Sheet データ入力画面
A1: ≪注意≫ このシートは応募票入力用です。
A2: 以下の１～19について入力 | C2: ↓この列に入力してください。 | D2: ＜記入例＞
A3: 1 | B3: 年月日 | D3: 2000/1/31 ※ 提出日を入力してください。
A4: 2 | B4: 研究主題 | D4: 小学校の学びとの連続性を意識した、一人一人の感性を豊かに育む創造的な保育の実践ー感動し、表現し、伝えようとする心の芽生えを大切にー
A5: 3 | B5: 教科・領域 | D5: 幼児教育
A6: 4 | B6: 研究内容に関するキーワード（５語） | D6: 学びの連続性、感性、創造的な保育、 小１プロブレム
A7: 5 | B7: 参加方法 ・個人の場合：数字の１を入力 ・共同（学校全体）の場合：数字の２を入力 ・共同（外○○人）の場合：数字の３を入力 | D7: 2
A8: 6 | B8: 上記４参加方法で、３を入力した場合のみ、共同研究者を外数で入力 | D8: ※ １又は２の場合は、空欄のまま。
A9: 7 | B9: 研究期間（開始年） | D9: 令和＃年 ※和暦で入力
A10: 8 | B10: 研究期間（開始月） | D10: ＃＃月
A11: 9 | B11: 研究期間（終了年） | D11: 令和＃年 ※和暦で入力
A12: 10 | B12: 研究期間（終了月） | D12: ＃＃月
A13: 11 | B13: 所属所名 | D13: ○○市立○○幼稚園
A14: 12 | B14: 氏名（代表者） | D14: 茨城 花子 ※ 姓と名の間には、全角１マス分のスペースを。
A15: 13 | B15: ふりがな | D15: いばらき はなこ ※ 姓と名の間には、全角１マス分のスペースを。
A16: 14 | B16: 職名 | D16: 園長
A17: 15 | B17: 職員番号 | D17: 1234567
A18: 16 | B18: 年齢 | D18: 52 ※ 令和８年３月31日現在で。
A19: 17 | B19: 共同研究者氏名 （1人目） | D19: 茨城 花子 ※ 姓と名の間には、全角１マス分のスペースを。
A20: 18 | B20: 共同研究者ふりがな | D20: いばらき はなこ ※ 姓と名の間には、全角１マス分のスペースを。
A21: 19 | B21: 職名 | D21: 園長
A22: 20 | B22: 職員番号 | D22: 1234567
A23: 21 | B23: 年齢 | D23: 52 ※ 令和８年３月31日現在で。
A24: 22 | B24: 共同研究者氏名 （2人目） | D24: 茨城 花子 ※ 姓と名の間には、全角１マス分のスペースを。
A25: 23 | B25: 共同研究者ふりがな | D25: いばらき はなこ ※ 姓と名の間には、全角１マス分のスペースを。
A26: 24 | B26: 職名 | D26: 園長
A27: 25 | B27: 職員番号 | D27: 1234567
A28: 26 | B28: 年齢 | D28: 52 ※ 令和８年３月31日現在で。
A29: 27 | B29: 所属所郵便番号（代表者） | D29: 310-0852 ※ 番号、ハイフンは半角で。
A30: 28 | B30: 所属所住所（代表者） | D30: 茨城県○○市○○町3-12-1 ※ 番地等、ハイフンは半角で。
A31: 29 | B31: 所属所電話番号（代表者） | D31: 029-123ｰ1234 ※ 番号、ハイフンは半角で。
A32: 30 | B32: 自宅郵便番号（代表者） | D32: 310-0000 ※ 番号、ハイフンは半角で。
A33: 31 | B33: 自宅住所（代表者） | D33: 茨城県水戸市笠原町978-46 ※ 番地等、ハイフンは半角で。
A34: 32 | B34: 自宅電話番号（代表者） | D34: 029ｰ301-8181 ※ 番号、ハイフンは半角で。
A35: 33 | B35: 教育弘済会論文参加及び入賞歴（代表者のみ） | D35: 平成25年度応募、平成27年度優良賞

Sheet 応募票（提出用）
A2: 令和8年度 第50回「教育に関する研究論文」応募票
A3: 共催：公益財団法人 日本教育公務員弘済会茨城支部・茨城県教育委員会 後援：文部科学省
N5: =IF(データ入力画面!C3="","",データ入力画面!C3)
A6: 公益財団法人 日本教育公務員弘済会茨城支部 支部長 様
A8: 貴支部の教育に関する研究論文募集事業について、下記のとおり応募いたします。
A9: なお、本論文は未発表であり、内容が重複する論文を他団体に応募しておりません。
A11: 研究主題 | C11: =データ入力画面!C4 -> 0
A12: 教科・領域 | C12: =データ入力画面!C5 -> 0
A13: 研究内容に関する キーワード （５語） | C13: =データ入力画面!C6 -> 0
A14: 参加方法 | C14: =IF(データ入力画面!C7=1,"個 人",IF(データ入力画面!C7=2,"共 同 （学校全体）",IF(データ入力画面!C7=3,"共 同","入力画面で1～３の半角数値を入力してください。"))) -> 入力画面で1～３の半角数値を入力してください。 | M14: 外 | N14: =データ入力画面!C8 -> 0 | O14: 人
A15: 研究期間 | C15: 令和 | D15: =データ入力画面!C9 -> 0 | E15: 年 | F15: =データ入力画面!C10 -> 0 | G15: 月 | H15: から | J15: 令和 | K15: =データ入力画面!C11 -> 0 | L15: 年 | M15: =データ入力画面!C12 -> 0 | N15: 月 まで
A16: 所属所名 （代表者） | C16: =データ入力画面!C13 -> 0
A17: ふりがな | C17: =データ入力画面!C15 -> 0 | H17: 職 名 | I17: =データ入力画面!C16 -> 0 | L17: 年齢 | M17: =データ入力画面!C18 -> 0 | N17: 職員 番号 | O17: =データ入力画面!C17 -> 0
A18: 氏 名 （代表者） | C18: =データ入力画面!C14 -> 0
A19: ふりがな | C19: =データ入力画面!C20 -> 0 | H19: 職 名 | I19: =データ入力画面!C21 -> 0 | L19: 年齢 | M19: =データ入力画面!C23 -> 0 | N19: 職員 番号 | O19: =データ入力画面!C22 -> 0
A20: 氏 名 （共同研究者） | C20: =データ入力画面!C19 -> 0
A21: ふりがな | C21: =データ入力画面!C25 -> 0 | H21: 職 名 | I21: =データ入力画面!C26 -> 0 | L21: 年齢 | M21: =データ入力画面!C28 -> 0 | N21: 職員 番号 | O21: =データ入力画面!C27 -> 0
A22: 氏 名 （共同研究者） | C22: =データ入力画面!C24 -> 0
A23: 所属所住所 （代表者） | C23: 〒 | D23: =データ入力画面!C29 -> 0
C24: =データ入力画面!C30 -> 0
C25: ＴＥＬ | D25: =データ入力画面!C31 -> 0
A26: 自宅住所 （代表者） | C26: 〒 | D26: =データ入力画面!C32 -> 0
C27: =データ入力画面!C33 -> 0
C28: ＴＥＬ | D28: =データ入力画面!C34 -> 0
A29: 教育弘済会論文 参加及び入賞歴 （代表者のみ） | C29: =データ入力画面!C35 -> 0
A31: ＜注意事項＞
A32: ※ 「データ入力画面」ワークシートでデータを入力した結果が、この応募票に反映されます。
A33: ※ 共同研究者は2名まで入力が可能です。また入賞した際、表彰状には連名で記載されます。（代表者のみの入力も可）
A34: ※ この応募票を必要枚数印刷のうえ、論文・資料等すべての表紙に貼付してください。
A35: ※ この応募票のデータを、提出締切の令和8年10月6日（火）までに以下のE-mailアドレスあて、ファイル名 「令和8年度教育論文応募票（○○立○○学校）」として送付してください。
B36: E-mail：ibaraki@nikkyoko.or.jp
H37: 教育弘済会記入欄
B39: 受 理 日 | J39: 受理番号
