Workbook

Sheet 目次
I1: 令和8年４月
A2: 電子申請・報告システム操作
A3: 【利用者】「詳細マニュアル」目次
F4: 公益財団法人日本教育公務員弘済会 愛知支部
B6: １．ログイン画面の表示
B7: ２．初回ログイン、パスワード初期化
B8: ３．ログイン
B9: ４．次回ログインからの新しいパスワードの設定
B10: ５．ヘッダー、メニュー、ヘルプ
B11: ６．花いっぱい 夢いっぱい事業 申請
B12: ７．花いっぱい 夢いっぱい事業 成果報告
B13: ８．花いっぱい 夢いっぱい事業 フォトコンテスト応募
B14: ９．元気いっぱい あいちっ子事業 申請
B15: １０．元気いっぱい あいちっ子事業 成果報告
B16: １１．本に親しむ あいちっ子事業 申請
B17: １２．本に親しむ あいちっ子事業 成果報告
... B30: 〈確認〉 しばらく入力がないとタイムアウトとなり、通信が途切れます。 入力作業中は、こまめに「一時保存」をしてください。

Sheet １
A1: =目次!B6 -> １．ログイン画面の表示

Sheet ２
A1: =目次!B7 -> ２．初回ログイン、パスワード初期化

Sheet ３
A1: =目次!B8 -> ３．ログイン

Sheet ４
A1: =目次!B9 -> ４．次回ログインからの新しいパスワードの設定

Sheet ５
A1: =目次!B10 -> ５．ヘッダー、メニュー、ヘルプ
A3: １．ヘッダー
A13: ２．メニュー
A46: ３．ヘルプ

Sheet ６
A1: =目次!B11 -> ６．花いっぱい 夢いっぱい事業 申請

Sheet ７
A1: =目次!B12 -> ７．花いっぱい 夢いっぱい事業 成果報告

Sheet ８
A1: =目次!B13 -> ８．花いっぱい 夢いっぱい事業 フォトコンテスト応募

Sheet ９
A1: =目次!B14 -> ９．元気いっぱい あいちっ子事業 申請

Sheet １０
A1: =目次!B15 -> １０．元気いっぱい あいちっ子事業 成果報告

Sheet １１
A1: =目次!B16 -> １１．本に親しむ あいちっ子事業 申請

Sheet １２
A1: =目次!B17 -> １２．本に親しむ あいちっ子事業 成果報告

Sheet １３
A1: =目次!B18 -> １３．へき地学校教育支援事業 助成申請

Sheet １４
A1: =目次!B19 -> １４．へき地学校教育支援事業 報告

Sheet １５
A1: 15.学校教育研究助成事業 助成申請

Sheet １６
A1: 1６.学校教育研究助成事業 報告

Sheet １７
A1: =目次!B22 -> １７．特別支援学校教育研究助成事業 助成申請

Sheet １８
A1: =目次!B23 -> １８．特別支援学校教育研究助成事業 報告

Sheet １９
A1: =目次!B24 -> １９．申請・報告・フォトコンテスト応募でよくあるエラー
C4: 【エラー表示例】
C6: ・エラー内容は画面上部に表示されます。また、項目ごとにもエラー表示されます。
D8: 画面上部に表示されるエラー表示
D15: 項目ごとに表示されるエラー

Sheet ２０
A1: =目次!B25 -> ２０．ファイルの添付、ダウンロード、削除
A3: １．ファイルの添付方法
A46: ２．添付ファイルをダウンロード
L59: chromeの場合 | X59: edgeの場合
A72: ３．添付ファイルを削除

Sheet ２１
A1: =目次!B26 -> ２１．一時保存
A3: １．一時保存

Sheet ２２
A1: =目次!B27 -> ２２．申請・報告・フォトコンテスト応募の取り下げ
A3: １．申請・報告・フォトコンテスト応募の取り下げ

Sheet ２３
A1: =目次!B28 -> ２３．申請・報告書のダウンロード
A3: １．申請・報告書のダウンロード
M15: chromeの場合 | X15: edgeの場合
